BEGIN:VCALENDAR
VERSION:2.0
PRODID:-//National Spiritual Day - ECPv6.15.18//NONSGML v1.0//EN
CALSCALE:GREGORIAN
METHOD:PUBLISH
X-WR-CALNAME:National Spiritual Day
X-ORIGINAL-URL:https://nationalspiritualday.nz
X-WR-CALDESC:Events for National Spiritual Day
REFRESH-INTERVAL;VALUE=DURATION:PT1H
X-Robots-Tag:noindex
X-PUBLISHED-TTL:PT1H
BEGIN:VTIMEZONE
TZID:Pacific/Auckland
BEGIN:STANDARD
TZOFFSETFROM:+1300
TZOFFSETTO:+1200
TZNAME:NZST
DTSTART:20230401T140000
END:STANDARD
BEGIN:DAYLIGHT
TZOFFSETFROM:+1200
TZOFFSETTO:+1300
TZNAME:NZDT
DTSTART:20230923T140000
END:DAYLIGHT
BEGIN:STANDARD
TZOFFSETFROM:+1300
TZOFFSETTO:+1200
TZNAME:NZST
DTSTART:20240406T140000
END:STANDARD
BEGIN:DAYLIGHT
TZOFFSETFROM:+1200
TZOFFSETTO:+1300
TZNAME:NZDT
DTSTART:20240928T140000
END:DAYLIGHT
BEGIN:STANDARD
TZOFFSETFROM:+1300
TZOFFSETTO:+1200
TZNAME:NZST
DTSTART:20250405T140000
END:STANDARD
BEGIN:DAYLIGHT
TZOFFSETFROM:+1200
TZOFFSETTO:+1300
TZNAME:NZDT
DTSTART:20250927T140000
END:DAYLIGHT
END:VTIMEZONE
BEGIN:VEVENT
DTSTART;TZID=Pacific/Auckland:20240905T193000
DTEND;TZID=Pacific/Auckland:20240905T213000
DTSTAMP:20260422T093440
CREATED:20240903T092016Z
LAST-MODIFIED:20240903T201125Z
UID:2005-1725564600-1725571800@nationalspiritualday.nz
SUMMARY:Physical Mediumship Workshop - Upper Hutt
DESCRIPTION:Coming up to the 100 year anniversary of the Spiritualist Church of New Zealand Act\, we are discussing physical mediumship such as apports\, table tipping\, ectoplasm\, trumpets\, tapping\, manifesting\, transfiguration\, etc. We don’t currently have many physical mediums locally but it’s the type of mediumship that often made the news in the past either because it was unexplainable or fraudulent! So we’ll step back 100 years and even have a go at table tipping ourselves. \nRefreshments provided. Cost: $5 members and $10 non-members. \nPhone / text Anne 027 640 4968 to book. \nAll Welcome
URL:https://nationalspiritualday.nz/event/physical-mediumship-workshop-upper-hutt/
LOCATION:King Lion Hall\, 12 King Street\, Upper Hutt\, Wellington\, 5018\, New Zealand
CATEGORIES:Wellington
ATTACH;FMTTYPE=image/jpeg:https://nationalspiritualday.nz/wp-content/uploads/2024/09/Upper-Hutt-Workshop85-Physical-Mediumship.jpg
ORGANIZER;CN="Upper Hutt Spiritualist Church":MAILTO:uhspiritualist@gmail.com
END:VEVENT
BEGIN:VEVENT
DTSTART;TZID=Pacific/Auckland:20240617T193000
DTEND;TZID=Pacific/Auckland:20240617T203000
DTSTAMP:20260422T093440
CREATED:20240531T015523Z
LAST-MODIFIED:20240604T050611Z
UID:1363-1718652600-1718656200@nationalspiritualday.nz
SUMMARY:Celebrating 100 Years of Spiritualism (Zoom Meeting)
DESCRIPTION:Spiritualism New Zealand invites you to a Zoom meeting to discuss the 100-year anniversary (22 September) of the passing of the Spiritualist Church of New Zealand Act 1924. This is a wonderful opportunity for us to collectively celebrate Spiritualism\, acknowledge those who have gone before us and generally join together in a variety of ways to bask in the power of Spirit. \nWe would love to have you join us on 17 June at 7.30pm. We are inviting as many Spiritualist churches and groups as we can identify. Please also share this link with your own contacts. \nJoin Zoom Meeting https://us02web.zoom.us/j/82344362717?pwd=aWdZWE85ZE8rUDNxNGM0RGlTMWkyUT09 \nMeeting ID: 823 4436 2717 Passcode: 969033
URL:https://nationalspiritualday.nz/event/celebrating-100-years-of-spiritualism-zoom-meeting/
LOCATION:Zoom
CATEGORIES:Online
ATTACH;FMTTYPE=image/jpeg:https://nationalspiritualday.nz/wp-content/uploads/2024/05/NSD-Logo-Landscape-1-RBG-1-scaled.jpg
END:VEVENT
END:VCALENDAR